BEGIN:VCALENDAR
VERSION:2.0
PRODID:-//Friends of Ortley Beach - ECPv6.15.14//NONSGML v1.0//EN
CALSCALE:GREGORIAN
METHOD:PUBLISH
X-WR-CALNAME:Friends of Ortley Beach
X-ORIGINAL-URL:https://friendsofortleybeach.org
X-WR-CALDESC:Events for Friends of Ortley Beach
REFRESH-INTERVAL;VALUE=DURATION:PT1H
X-Robots-Tag:noindex
X-PUBLISHED-TTL:PT1H
BEGIN:VTIMEZONE
TZID:UTC
BEGIN:STANDARD
TZOFFSETFROM:+0000
TZOFFSETTO:+0000
TZNAME:UTC
DTSTART:20210101T000000
END:STANDARD
END:VTIMEZONE
BEGIN:VEVENT
DTSTART;TZID=UTC:20220521T080000
DTEND;TZID=UTC:20220521T120000
DTSTAMP:20260420T130428
CREATED:20220409T133143Z
LAST-MODIFIED:20220409T133143Z
UID:1127-1653120000-1653134400@friendsofortleybeach.org
SUMMARY:Ortley Beach Townwide Garage Sale
DESCRIPTION:Friends of Ortley Beach is once again sponsoring a townwide garage sale. \nDate: Saturday\, May 21\nTime: 8 a.m. to 12 noon \nA donation of $10 will get your address on the map that will be available to shoppers online and for pick up at local businesses. We will also place street signs in key locations around town and use social media to get the word out. \nRegister online or print a registration form to mail in. Don’t forget to check out the valuable tips we have compiled on our website. \n***SHOPPERS: Check back a few days before the sale to download the official Ortley Beach Townwide Garage Sale Map!*** \nRain date is Sunday\, May 22.
URL:https://friendsofortleybeach.org/event/ortley-beach-townwide-garage-sale/
END:VEVENT
END:VCALENDAR